BEGIN:VCALENDAR
VERSION:2.0
PRODID:-//wp-events-plugin.com//7.2.3.1//EN
TZID:America/New_York
X-WR-TIMEZONE:America/New_York
BEGIN:VEVENT
UID:187@shaverscreek.org
DTSTART;TZID=America/New_York:20210310T100000
DTEND;TZID=America/New_York:20210310T103000
DTSTAMP:20210224T201436Z
URL:https://www.shaverscreek.org/public-programs-and-events/upcoming-event
 s/kids-corner-22/
SUMMARY:Kids Corner
DESCRIPTION:This session's theme is "The Lives of Raptors during Spring Mig
 ration."
END:VEVENT
BEGIN:VTIMEZONE
TZID:America/New_York
X-LIC-LOCATION:America/New_York
BEGIN:STANDARD
DTSTART:20201101T010000
TZOFFSETFROM:-0400
TZOFFSETTO:-0500
TZNAME:EST
END:STANDARD
END:VTIMEZONE
END:VCALENDAR